BEGIN:VCALENDAR
VERSION:2.0
PRODID:-//wp-events-plugin.com//7.2.3.1//EN
TZID:Europe/London
X-WR-TIMEZONE:Europe/London
BEGIN:VEVENT
UID:4262@manchesteriyengaryoga.org.uk
DTSTART;TZID=Europe/London:20260614T100000
DTEND;TZID=Europe/London:20260614T130000
DTSTAMP:20260323T155204Z
URL:https://manchesteriyengaryoga.org.uk/events/garth-mclean-general-class
 /
SUMMARY:Garth McLean - General Class
DESCRIPTION:This Sunday session is a general class for everyone to try Iyen
 gar Yoga.\n\n£30 members / £35 non members\n\nGarth is joining us soon f
 or a whole weekend of yoga\, Garth’s aim is to bring balance and strengt
 h to the nervous and immune systems. He  notes\, “the beauty of Iyenga
 r Yoga is that it can be adapted to suit anyone’s ability at whatever 
 level to receive the benefits of a yoga practice."\n\n\n\nWeekend Progr
 amme:\n\n\n\n\nFriday Intermediate class: 12.30 - 2.30pm £20 members/£25
  non members\nFriday: Online pranayama/restorative online class: 6 - 7pm 
 £6 members/£12nm\nSaturday: Health issues (all welcome)\, 10am -12noon -
  class for those with problems\, neurological or restriction issues\, all 
 welcome but our priority is to help those who health issues.\n12 - 1 lunch
 \nSaturday: 1 - 2pm talk with questions and answers where you can use us t
 o demonstrate postures or methods to help answer questions and people love
  to listen to you talk\, we got that from feedback\, they would love the c
 hance to chat. Short break followed by restorative yoga until 4pm\, £30 m
 embers/£35 nm\n\nSunday: general class for all 10am -1pm\, £30 members/
 £35 nm\n\n\n\n“Garth continues B.K.S. Iyengar’s work to bring the ben
 efits of yoga to those willing to\ndiscipline themselves. No matter what o
 ur physical or mental limitations may be\, there are ways\nto make positiv
 e steps toward those objectives.\n— Emilia H.\n\n\n\nBooking Help:\n\nIt
  is essential that you fill in the medical form properly when booking.\n\n
 Online booking closes the day before the event.\n\nWe use PayPal to proces
 s transactions\, however you can use ANY debit/credit card to pay – choo
 se the “Guest User” option on the payment page and you will be asked f
 or your card details.\n\nMDIY members: If you only see the non-member rat
 es\, this means you are not logged in properly\; please try logging in aga
 in. If this doesn’t work\, please email webmaster@mdiiy.org.uk.\n\nNon-
 members: You need to be logged in to book\; please create a (free) basic a
 ccount to book classes/events.\n\nAttending in-person:\n\nIf you have not 
 booked online but want to check whether you can come on the day\, please c
 all Clare on 07747200411\n\nPayment is required in advance.  You can pay 
 with cash or a card on the door (if there are places available)\; but you 
 will not be able to attend the class without payment.  If you do need to 
 pay on the door\, please arrive at least 10 minutes before the published e
 vent start time\, to minimise disruption during the class.\n\nWe will clos
 e the building 20 mins after the event finishes.\n\nWe will not tolerate b
 ehaviour that our members or volunteers find intimidating or inappropriate
 \, including refusing to leave when asked.  We reserve the right to remov
 e membership and/or refuse future entry in the event of such behaviour.\n\
 nBooking and cancellation policy (in-person and online attendees)\n\nMDIY 
 members will take priority over non-members. MDIY will refund the cost of 
 tickets (less a £5 administration charge) if notice of cancellation is re
 ceived more than 7 days before the event. Cancellations received less than
  7 days before the event will not be refunded.\n\nBy ticking the box below
 \, you agree to the conditions of booking and attending the class/event.\n
 \n\n\n
ATTACH;FMTTYPE=image/jpeg:https://manchesteriyengaryoga.org.uk/wp-content/
 uploads/2023/07/garthguruji1.jpg
CATEGORIES:Workshop
LOCATION:Manchester and District Institute of Iyengar Yoga\, 134 King Stree
 t\, Dukinfield\, SK16 4LG\, United Kingdom
GEO:53.476944;-2.092595
X-APPLE-STRUCTURED-LOCATION;VALUE=URI;X-ADDRESS=134 King Street\, Dukinfiel
 d\, SK16 4LG\, United Kingdom;X-APPLE-RADIUS=100;X-TITLE=Manchester and Di
 strict Institute of Iyengar Yoga:geo:53.476944,-2.092595
END:VEVENT
BEGIN:VTIMEZONE
TZID:Europe/London
X-LIC-LOCATION:Europe/London
BEGIN:DAYLIGHT
DTSTART:20260329T020000
TZOFFSETFROM:+0000
TZOFFSETTO:+0100
TZNAME:BST
END:DAYLIGHT
END:VTIMEZONE
END:VCALENDAR