BEGIN:VCALENDAR
VERSION:2.0
PRODID:-//wp-events-plugin.com//7.2.3.1//EN
TZID:Europe/London
X-WR-TIMEZONE:Europe/London
BEGIN:VEVENT
UID:4244@manchesteriyengaryoga.org.uk
DTSTART;TZID=Europe/London:20260612T144500
DTEND;TZID=Europe/London:20260612T160000
DTSTAMP:20260325T204050Z
URL:https://manchesteriyengaryoga.org.uk/events/garth-mclean-the-pathology
 -and-iy-approach-for-persons-with-ms-parkinsons-stroke/
SUMMARY:Garth McLean - the pathology and IY approach for persons with MS\, 
 Parkinsons\, stroke
DESCRIPTION:Garth is back and offering a special opportunity for teachers t
 o learn about the Iyengar Yoga approach to MS\, Parkinsons and Stroke.\n\n
 We are just gauging interest to see if teachers would like to learn from G
 arth\, looking at practical arrangement of equipment\, hearing evidence fo
 r case studies. Please let us know if you would be interested\n\nJoining u
 s on our AGM weekend no less. A great way to bring together our Yoga Commu
 nity in the Manchester and District Iyengar Yoga area.\n\n“the beauty of
  Iyengar Yoga is that it can be adapted to suit anyone’s ability at wh
 atever level to receive the benefits of a yoga practice."\n\n&nbsp\;\n\
 nThe rest of the weekend programme:\n\nFriday Intermediate class: 12.30 - 
 2.30pm\n\n\n\nGuest teaching our online pranayama/restorative online class
 : 6 - 7pm\n\nSaturday 10am -12noon - class for those with problems\, neuro
 logical or restriction issues\, all welcome but our priority is to help th
 ose who need you most.\n\n12 - 1 lunch\n\n1 - 2pm talk with questions and 
 answers.\n\nshort break followed by restorative yoga until 4pm\n\nSunday g
 eneral class for all 10am -1pm\n\n\n\n“Garth continues B.K.S. Iyengar’
 s work to bring the benefits of yoga to those willing to\ndiscipline thems
 elves. No matter what our physical or mental limitations may be\, there ar
 e ways\nto make positive steps toward those objectives.\n— Emilia H.\n\n
 \n\n&nbsp\;\n\n\n\n
ATTACH;FMTTYPE=image/jpeg:https://manchesteriyengaryoga.org.uk/wp-content/
 uploads/2023/07/garthguruji1.jpg
CATEGORIES:Workshop
LOCATION:Manchester and District Institute of Iyengar Yoga\, 134 King Stree
 t\, Dukinfield\, SK16 4LG\, United Kingdom
GEO:53.476944;-2.092595
X-APPLE-STRUCTURED-LOCATION;VALUE=URI;X-ADDRESS=134 King Street\, Dukinfiel
 d\, SK16 4LG\, United Kingdom;X-APPLE-RADIUS=100;X-TITLE=Manchester and Di
 strict Institute of Iyengar Yoga:geo:53.476944,-2.092595
END:VEVENT
BEGIN:VTIMEZONE
TZID:Europe/London
X-LIC-LOCATION:Europe/London
BEGIN:DAYLIGHT
DTSTART:20260329T020000
TZOFFSETFROM:+0000
TZOFFSETTO:+0100
TZNAME:BST
END:DAYLIGHT
END:VTIMEZONE
END:VCALENDAR