BEGIN:VCALENDAR
VERSION:2.0
PRODID:-//wp-events-plugin.com//7.2.3.1//EN
TZID:Europe/London
X-WR-TIMEZONE:Europe/London
BEGIN:VEVENT
UID:4184@manchesteriyengaryoga.org.uk
DTSTART;TZID=Europe/London:20260306T100000
DTEND;TZID=Europe/London:20260306T120000
DTSTAMP:20260201T075852Z
URL:https://manchesteriyengaryoga.org.uk/events/intermediate-38-2026-02-13
 -2026-02-20-2026-02-27-2026-03-06/
SUMMARY:Intermediate
DESCRIPTION:Alongside the basic postures\, a more demanding and complex ran
 ge of postures will be taught. The Intermediate class is suitable for thos
 e with at least 3 years' consistent attendance of Iyengar yoga classes\, w
 ho practise at home and are able to do a steady headstand.\nMembers £9.50
 \nNon-members £10\nBlock booking: MDIY members only\, 7 weeks £49
CATEGORIES:Class
LOCATION:Manchester and District Institute of Iyengar Yoga\, 134 King Stree
 t\, Dukinfield\, SK16 4LG\, United Kingdom
GEO:53.476944;-2.092595
X-APPLE-STRUCTURED-LOCATION;VALUE=URI;X-ADDRESS=134 King Street\, Dukinfiel
 d\, SK16 4LG\, United Kingdom;X-APPLE-RADIUS=100;X-TITLE=Manchester and Di
 strict Institute of Iyengar Yoga:geo:53.476944,-2.092595
END:VEVENT
BEGIN:VTIMEZONE
TZID:Europe/London
X-LIC-LOCATION:Europe/London
BEGIN:STANDARD
DTSTART:20251026T010000
TZOFFSETFROM:+0100
TZOFFSETTO:+0000
TZNAME:GMT
END:STANDARD
END:VTIMEZONE
END:VCALENDAR