BEGIN:VCALENDAR
VERSION:2.0
PRODID:-//wp-events-plugin.com//7.2.3.1//EN
TZID:Europe/London
X-WR-TIMEZONE:Europe/London
BEGIN:VEVENT
UID:3970@manchesteriyengaryoga.org.uk
DTSTART;TZID=Europe/London;VALUE=DATE:20260807
DTEND;TZID=Europe/London;VALUE=DATE:20260810
DTSTAMP:20260312T113225Z
URL:https://manchesteriyengaryoga.org.uk/events/summer-school-with-debbie-
 bartholomew-2/
SUMMARY:Summer School with Debbie Bartholomew
DESCRIPTION:Debbie hardly needs an introduction to most of our members\; a 
 Level 3 teacher\, Debbie has been teaching Iyengar Yoga for over 27 years 
  and now teaches full time after working for 24 years in the building trad
 e as a builders’ merchant\, teaching at MDIY and across Yorkshire and La
 ncashire.  Debbie teaches all levels\, from beginners to teachers\, but p
 articularly enjoys teaching beginners as they have so much enthusiasm. She
  has been taught by both BKS Iyengar and Geeta Iyengar.\n\nAs well as the 
 value of her own personal experiences with yoga\, Debbie brings enormous e
 nthusiasm and warmth\, and is an extremely popular teacher - we recommend 
 booking early!\n\nProgramme:\n\nFriday\n\n3pm - 5pm Asana class\n5pm - 5.3
 0pm Tea in the garden\n5.30pm - 7pm Restorative inc Pranayama\n\n\n\nSatur
 day\n\n\n\n8am - 9.30am  Pranayama\n9.30am - 10am Coffee in the garden\n1
 0am - 12.30pm Asana class\n1pm - 2.30pm Restorative\nSunday\n\n\n\n8am - 9
 .30am Pranayama\n9.30 - 10am Coffee in the garden\n10am - 1pm Asana\n1pm -
  snacks!\nCost: For the full weekend\, £135 for members and £150 for non
 -members.\n\n\nIf you have any suggestions for what you would like to cove
 r over the weekend\, please email info@mdiiy.org.uk to ask.\n\nPreference 
 will be given to those booking the full weekend.  Booking for single days
  will open at end of July\, if there are places remaining.\n\nConditions o
 f booking and attending the event: \n\nIt is essential that you inform us
  or Debbie Bartholomew of any serious illness or injury in the days (or we
 eks) leading up to this event.  Do not leave it until the day.\n\nBooking
  Help\n\nOnline booking closes the day before the event.\n\nWe use PayPal 
 to process transactions\, however you can use ANY debit/credit card to pay
  – choose the “Guest User” option on the payment page and you will b
 e asked for your card details.\n\nMDIY members: If you only see the non-m
 ember rates\, this means you are not logged in properly\; please try loggi
 ng in again. If this doesn’t work\, please email webmaster@mdiiy.org.uk
 .\n\nNon-members: You need to be logged in to book\; please create a (free
 ) basic account to book classes/events.\n\nAttending  an in-person event:
 \n\nIf you have not booked online but want to check whether you can come o
 n the day\, please call Clare on 07747200411\n\nPayment is required in adv
 ance.  You can pay with cash or a card on the door (if there are places a
 vailable)\; but you will not be able to attend the class without payment.
   If you do need to pay on the door\, please arrive at least 10 minutes b
 efore the published event start time\, to minimise disruption during the c
 lass.\n\nWe will close the building 20 mins after the event finishes.\n\nW
 e will not tolerate behaviour that our members or volunteers find intimida
 ting or inappropriate\, including refusing to leave when asked.  We reser
 ve the right to remove membership and/or refuse future entry in the event 
 of such behaviour.\n\nBooking and cancellation policy (in-person and onlin
 e attendees)\n\nMDIY members will take priority over non-members. MDIY wil
 l refund the cost of tickets (less a £5 administration charge) if notice 
 of cancellation is received more than 7 days before the event. Cancellatio
 ns received less than 7 days before the event will not be refunded.\n\nBy 
 ticking the box below\, you agree to the conditions of booking and attendi
 ng the class/event.
ATTACH;FMTTYPE=image/jpeg:https://manchesteriyengaryoga.org.uk/wp-content/
 uploads/2024/02/icecream.jpg
CATEGORIES:Workshop
LOCATION:Manchester and District Institute of Iyengar Yoga\, 134 King Stree
 t\, Dukinfield\, SK16 4LG\, United Kingdom
GEO:53.476944;-2.092595
X-APPLE-STRUCTURED-LOCATION;VALUE=URI;X-ADDRESS=134 King Street\, Dukinfiel
 d\, SK16 4LG\, United Kingdom;X-APPLE-RADIUS=100;X-TITLE=Manchester and Di
 strict Institute of Iyengar Yoga:geo:53.476944,-2.092595
END:VEVENT
BEGIN:VTIMEZONE
TZID:Europe/London
X-LIC-LOCATION:Europe/London
BEGIN:DAYLIGHT
DTSTART:20260329T020000
TZOFFSETFROM:+0000
TZOFFSETTO:+0100
TZNAME:BST
END:DAYLIGHT
END:VTIMEZONE
END:VCALENDAR