BEGIN:VCALENDAR
VERSION:2.0
PRODID:-//wp-events-plugin.com//7.2.3.1//EN
TZID:Europe/London
X-WR-TIMEZONE:Europe/London
BEGIN:VEVENT
UID:2633@manchesteriyengaryoga.org.uk
DTSTART;TZID=Europe/London:20250630T124500
DTEND;TZID=Europe/London:20250630T144500
DTSTAMP:20250519T105046Z
URL:https://manchesteriyengaryoga.org.uk/events/teachers-in-person-online-
 6-2025-06-30/
SUMMARY:Teachers - In Person & Online
DESCRIPTION:A class for Iyengar Yoga teachers only\, designed to improve te
 achers’ personal practice and teaching expertise for the ultimate benefi
 t of all students of Iyengar yoga.\nJulie Brown guides the students from l
 evel 1 asanas right through to level 4. She builds on links\, from the ear
 lier asanas\, in such a way that enables everyone to further develop their
  understanding.\nThis class is accessible whether you’re a newly qualifi
 ed teacher\, or have many years experience. It’s available online\, by r
 ecording and If you’re able to attend MDIY in person\, you’ll have Jul
 ie on hand to make the adjustments your body requires.\n\nMembers £10.00\
 nNon-members £12.00\n\nBlock booking for members only: 9 sessions £67.50
 \n\n\nMonday Teacher’s class – Summer term 2025\nApril: 28th\nMay: 12t
 h\, 19th\,\nJune: 2nd\, 9th 16th 23rd\, 30th\nJuly: 7th\n\n\nPlease note
 : This class will be a mixed class of students in the room and online. You
  can choose how to attend. The teacher will send out the link each week.\n
 \nIf you choose to attend online\, please note that by attending you agree
  to the following disclaimer:\nWhen attending this or any online yoga clas
 s\, livestreamed or pre-recorded\, it is up to the individual attending to
  assess whether or not they are ready to attend the class in which they ha
 ve chosen to participate.\nAs the participant\, if you suffer from specifi
 c injuries or disease\, it is best to consult with your physician prior to
  attending.\n\nBy booking\, you acknowledge that:\n\n 	You understand that
  this program/sequence is presented for use by existing yoga students only
 \n 	You understand that this online class does not cover any liability or 
 loss\, personal or otherwise\, incurred by you resulting from your partici
 pation in the online yoga class(es) offered.\n 	During the online yoga cla
 ss(es)\, livestreamed or pre-recorded\, you will be asked to complete the 
 recommended activities to the best of your ability. The yoga activities ca
 n and may be recommended to be adapted to suit your condition\, insofar as
  possible. Should you experience any symptoms\, pain\, discomfort\, or oth
 er concerns that may occur or change at any point during the class\, you w
 ill immediately abstain from the recommended Activities. You will proceed 
 only at your sole discretion and at your own risk.\n 	You further understa
 nd that you take full responsibility for participating in and completing t
 he recommended yoga positions to the best f your ability.\n
CATEGORIES:Class
LOCATION:Manchester and District Institute of Iyengar Yoga\, 134 King Stree
 t\, Dukinfield\, SK16 4LG\, United Kingdom
GEO:53.476944;-2.092595
X-APPLE-STRUCTURED-LOCATION;VALUE=URI;X-ADDRESS=134 King Street\, Dukinfiel
 d\, SK16 4LG\, United Kingdom;X-APPLE-RADIUS=100;X-TITLE=Manchester and Di
 strict Institute of Iyengar Yoga:geo:53.476944,-2.092595
END:VEVENT
BEGIN:VTIMEZONE
TZID:Europe/London
X-LIC-LOCATION:Europe/London
BEGIN:DAYLIGHT
DTSTART:20250330T020000
TZOFFSETFROM:+0000
TZOFFSETTO:+0100
TZNAME:BST
END:DAYLIGHT
END:VTIMEZONE
END:VCALENDAR