BEGIN:VCALENDAR
VERSION:2.0
PRODID:-//wp-events-plugin.com//7.2.3.1//EN
TZID:Europe/London
X-WR-TIMEZONE:Europe/London
BEGIN:VEVENT
UID:2385@manchesteriyengaryoga.org.uk
DTSTART;TZID=Europe/London:20250412T093000
DTEND;TZID=Europe/London:20250412T120000
DTSTAMP:20250408T071507Z
URL:https://manchesteriyengaryoga.org.uk/events/yoga-asana-anatomy-herman-
 traitteur/
SUMMARY:Yoga Asana Anatomy - Hermann Traitteur
DESCRIPTION:We are delighted to welcome Dr. Hermann Traitteur to Mancheste
 r\, both virtually and in person.\n\nThere are 3 workshops in 3 parts with
  the online workshops recorded:\n\nPart 1 - 12th April  - 9.30am - 12pm o
 nline\n\nPart 2 - 12th July - 9.30am - 12pm online\n\nPart 3 - 31st Oct - 
 2nd Nov - in person at MDIY\n\nThe course can be purchased as individual w
 orkshops or as a package.\n\nPart 1 &amp\; 2 - £30 each members/ £35 non
 -members\n\nPart 3 - £125 members/£140 non-members\n\nPackage - £160 me
 mbers/£210 non-members\n\nWhat to expect at the workshops:\n\nHermann wil
 l cover the skeletal system\, muscular system\, digestive system\, circula
 tory system and nervous system over the course of these three workshops. R
 ecordings will be available for the two online workshops.\n\nThis is a fan
 tastic opportunity to learn and apply your knowledge to the practical elem
 ents of Iyengar Yoga practice. If you want to know more about the function
 ing of the body and the relationship Iyengar Yoga plays then you will bene
 fit from these educational and practical workshops.\n\nAbout Herman:\n\nDr
 . Hermann Traitteur grew up in the southern German town of Munich\, where 
 in the late 1980s\, he first came into contact with Iyengar Yoga. After th
 e fall of the Berlin Wall\, he moved to Berlin in 1990\, where he studied 
 medicine and began his medical career in an orthopedic clinic. When he was
  studying medicine in Berlin\, he also participated in a Teacher Training 
 Program at the Iyengar Yoga Institute of San Francisco.\n\nFollowing his c
 ertification with the Iyengar Yoga National Association of the United Stat
 es (IYNAUS)\, he has furthered his education through annual stays at the R
 amamani Iyengar Memorial Yoga Institute (RIMYI) in Pune\, India.\n\nSince 
 the end of the 1990s\, he has been a lecturer and assessor within the nasc
 ent Iyengar Yoga teacher training programs throughout\n\nGermany.  His di
 ssertation\, published in 2012\, is a study of the effects of Iyengar Yoga
  on chronic neck pain.\n\nAt the end of the 1990s\, Hermann Traitteur bega
 n to instruct anatomy and physiology within the nascent German teacher tra
 ining of Iyengar Yoga. During this time\, he developed handouts for the co
 urses as he found the majority of anatomy textbooks too complicated for th
 e purposes of Iyengar Yoga and too difficult to understand for those witho
 ut a background in medicine.\nFrom this “reader” emerged the German bo
 ok “Yoga Asana Anatomy” first published in 2016. It took three more ye
 ars to realize the English translation\, which has gained greater depth an
 d scope due to useful contributions made by Lois Steinberg and others. Gee
 ta S. Iyengar kindly contributed a beautifully written foreword.\n\n&nbsp\
 ;\n\nBooking Help\n\nIt is essential you tell us of any illnesses or injur
 ies days in advance of the workshops. Email clare@mdiiy.org.uk. Online boo
 king closes the day before the event.\n\nWe use PayPal to process transact
 ions\, however you can use ANY debit/credit card to pay – choose the “
 Guest User” option on the payment page and you will be asked for your ca
 rd details.\n\nMDIY members: If you only see the non-member rates\, this 
 means you are not logged in properly\; please try logging in again. If thi
 s doesn’t work\, please email webmaster@mdiiy.org.uk.\n\nNon-members: Y
 ou need to be logged in to book\; please create a (free) basic account to 
 book classes/events.\n\nIf you are attending online/in-person:\n\n 	If you
  have not booked online but want to check whether you can come on the day\
 , please call Clare on 07747200411\n 	Payment is required in advance.\n\nB
 y ticking the box below\, you agree to the following disclaimer:\n\n 	When
  attending this or any online yoga class\, livestreamed or pre-recorded\, 
 it is up to the individual attending to assess whether or not they are rea
 dy to attend the class in which they have chosen to participate.\n 	As the
  participant\, if you suffer from specific injuries or disease\, it is bes
 t to consult with your physician prior to attending.\n\nBy booking\, you a
 cknowledge that:\n\n 	You understand that this program/sequence is present
 ed for use by existing yoga students only\n 	You understand that this onli
 ne class does not cover any liability or loss\, personal or otherwise\, in
 curred by you resulting from your participation in the online yoga class(e
 s) offered.\n 	During the online yoga class(es)\, livestreamed or pre-reco
 rded\, you will be asked to complete the recommended activities to the bes
 t of your ability.  The yoga activities can and may be recommended to be 
 adapted to suit your condition\, insofar as possible. Should you experienc
 e any symptoms\, pain\, discomfort\, or other concerns that may occur or c
 hange at any point during the class\, you will immediately abstain from th
 e recommended Activities. You will proceed only at your sole discretion an
 d at your own risk.\n 	You further understand that you take full responsib
 ility for participating in and completing the recommended yoga positions t
 o the best of your ability.\n 	We will not tolerate behaviour that our mem
 bers or volunteers find intimidating or inappropriate\, including refusing
  to leave when asked.  We reserve the right to remove membership and/or r
 efuse future entry in the event of such behaviour.\n\nBooking and cancella
 tion policy (in-person and online attendees)\n\nMDIY members will take pri
 ority over non-members. MDIY will refund the cost of tickets (less a £5 a
 dministration charge) if notice of cancellation is received more than 7 da
 ys before the event. Cancellations received less than 7 days before the ev
 ent will not be refunded.\n\nBy booking you agree to the conditions of boo
 king and attending the class/event.\n\n&nbsp\;
CATEGORIES:Workshop
LOCATION:Online\, on Zoom\, online\, United Kingdom
X-APPLE-STRUCTURED-LOCATION;VALUE=URI;X-ADDRESS=on Zoom\, online\, United K
 ingdom;X-APPLE-RADIUS=100;X-TITLE=Online:geo:0,0
END:VEVENT
BEGIN:VTIMEZONE
TZID:Europe/London
X-LIC-LOCATION:Europe/London
BEGIN:DAYLIGHT
DTSTART:20250330T020000
TZOFFSETFROM:+0000
TZOFFSETTO:+0100
TZNAME:BST
END:DAYLIGHT
END:VTIMEZONE
END:VCALENDAR